BEGIN:VCALENDAR
VERSION:2.0
PRODID:-//ChamberMaster//Event Calendar 2.0//EN
METHOD:PUBLISH
X-PUBLISHED-TTL:P3D
REFRESH-INTERVAL:P3D
CALSCALE:GREGORIAN
BEGIN:VEVENT
DTSTART:20161027T220000Z
DTEND:20161028T000000Z
X-MICROSOFT-CDO-ALLDAYEVENT:FALSE
SUMMARY:BAH: Exchange Bank
DESCRIPTION:Enjoy great people\, food and beverages at this annual Business After Hours! Food from Fanatics and Bar from Cunningham's!
X-ALT-DESC;FMTTYPE=text/html:Enjoy great people\, food and beverages at this annual Business After Hours! Food from Fanatics and Bar from Cunningham&#39\;s!
LOCATION:3110 N 2nd Ave
UID:e.1404.7030
SEQUENCE:3
DTSTAMP:20260421T140324Z
URL:https://chambermaster.kearneycoc.org/events/details/bah-exchange-bank-10-13-2016-7030
END:VEVENT

END:VCALENDAR
