BEGIN:VCALENDAR
VERSION:2.0
PRODID:-//ChamberMaster//Event Calendar 2.0//EN
METHOD:PUBLISH
X-PUBLISHED-TTL:P3D
REFRESH-INTERVAL:P3D
CALSCALE:GREGORIAN
BEGIN:VEVENT
DTSTART:20140515T223000Z
DTEND:20140516T003000Z
X-MICROSOFT-CDO-ALLDAYEVENT:FALSE
SUMMARY:BAH: First National Bank (Formerly Platte Valley State Bank)
DESCRIPTION:Join us at First National Bank's Business After Hours. We will be celebrating the new name change from Platte Valley State Bank. Food and Beverages will be served!
X-ALT-DESC;FMTTYPE=text/html:Join us at First National Bank&#39\;s Business After Hours. We will be celebrating the new name change from Platte Valley State Bank. Food and Beverages will be served!
LOCATION:2223 Second Ave Kearney\, NE
UID:e.1404.4531
SEQUENCE:3
DTSTAMP:20260423T152242Z
URL:https://chambermaster.kearneycoc.org/events/details/bah-first-national-bank-formerly-platte-valley-state-bank-05-15-2014-4531
END:VEVENT

END:VCALENDAR
