BEGIN:VCALENDAR
VERSION:2.0
PRODID:-//ChamberMaster//Event Calendar 2.0//EN
METHOD:PUBLISH
X-PUBLISHED-TTL:P3D
REFRESH-INTERVAL:P3D
CALSCALE:GREGORIAN
BEGIN:VEVENT
DTSTART:20190509T223000Z
DTEND:20190510T000000Z
X-MICROSOFT-CDO-ALLDAYEVENT:FALSE
SUMMARY:BAH - First National Bank with Leadership Kearney
DESCRIPTION:Please join us for a Business After Hours with First National Bank and Leadership Kearney!
X-ALT-DESC;FMTTYPE=text/html:Please join us for a Business After Hours with First National Bank and Leadership Kearney!
LOCATION:First National Bank 2223 2nd Ave. Kearney NE
UID:e.1404.15438
SEQUENCE:3
DTSTAMP:20260426T023008Z
URL:https://chambermaster.kearneycoc.org/events/details/bah-first-national-bank-with-leadership-kearney-15438
END:VEVENT

END:VCALENDAR
