BEGIN:VCALENDAR
VERSION:2.0
PRODID:-//ChamberMaster//Event Calendar 2.0//EN
METHOD:PUBLISH
X-PUBLISHED-TTL:P3D
REFRESH-INTERVAL:P3D
CALSCALE:GREGORIAN
BEGIN:VEVENT
DTSTART:20150708T220000Z
DTEND:20150709T000000Z
X-MICROSOFT-CDO-ALLDAYEVENT:FALSE
SUMMARY:BAH: George Spencer Tasting Room
DESCRIPTION:Join us in a ribbon cutting ceremony for George Spencer Tasting Room followed by a Business After Hours! Samples of beverages and food will be set up at different areas of the property. Each location you visit you can collect a stamp to win a drawing for a gift certificate! Get Off My Lawn will also be playing! This is one you don't want to miss!
X-ALT-DESC;FMTTYPE=text/html:Join us in a ribbon cutting ceremony for George Spencer Tasting Room followed by a Business After Hours! Samples of beverages and food will be set up at different areas of the property. Each location you visit you can collect a stamp to win a drawing for a gift certificate! Get Off My Lawn will also be playing! This is one you don&#39\;t want to miss!
LOCATION:7155 Pawnee Road Gibbon\, NE
UID:e.1404.6249
SEQUENCE:3
DTSTAMP:20260422T151702Z
URL:https://chambermaster.kearneycoc.org/events/details/bah-george-spencer-tasting-room-07-08-2015-6249
END:VEVENT

END:VCALENDAR
