BEGIN:VCALENDAR
VERSION:2.0
PRODID:-//ChamberMaster//Event Calendar 2.0//EN
METHOD:PUBLISH
X-PUBLISHED-TTL:P3D
REFRESH-INTERVAL:P3D
CALSCALE:GREGORIAN
BEGIN:VEVENT
DTSTART:20200206T230000Z
DTEND:20200207T010000Z
X-MICROSOFT-CDO-ALLDAYEVENT:FALSE
SUMMARY:BAH - Homestead Assisted Living
DESCRIPTION:Join us for Business After Hours with Homestead Assisted Living!
X-ALT-DESC;FMTTYPE=text/html:Join us for Business After Hours with <a href="https://www.midwest-health.com/kearney/">Homestead Assisted Living</a>!&nbsp\;
LOCATION:4205 6th Ave.
UID:e.1404.18304
SEQUENCE:3
DTSTAMP:20260425T114140Z
URL:https://chambermaster.kearneycoc.org/events/details/bah-homestead-assisted-living-18304
END:VEVENT

END:VCALENDAR
