BEGIN:VCALENDAR
VERSION:2.0
PRODID:-//ChamberMaster//Event Calendar 2.0//EN
METHOD:PUBLISH
X-PUBLISHED-TTL:P3D
REFRESH-INTERVAL:P3D
CALSCALE:GREGORIAN
BEGIN:VEVENT
DTSTART:20190404T220000Z
DTEND:20190405T000000Z
X-MICROSOFT-CDO-ALLDAYEVENT:FALSE
SUMMARY:BAH - Kearney Community Theatre
DESCRIPTION:Please join us for Business After Hours with Kearney Community Theatre!
X-ALT-DESC;FMTTYPE=text/html:Please join us for Business After Hours with Kearney Community Theatre!
LOCATION:Kearney Community Theatre 83 Plaza Blvd
UID:e.1404.15135
SEQUENCE:3
DTSTAMP:20260426T032817Z
URL:https://chambermaster.kearneycoc.org/events/details/bah-kearney-community-theatre-15135
END:VEVENT

END:VCALENDAR
