BEGIN:VCALENDAR
VERSION:2.0
PRODID:-//ChamberMaster//Event Calendar 2.0//EN
METHOD:PUBLISH
X-PUBLISHED-TTL:P3D
REFRESH-INTERVAL:P3D
CALSCALE:GREGORIAN
BEGIN:VEVENT
DTSTART:20160831T220000Z
DTEND:20160901T000000Z
X-MICROSOFT-CDO-ALLDAYEVENT:FALSE
SUMMARY:BAH: Look What's Cookin
DESCRIPTION:Join us for a Business After Hours at Look What's Cookin new location! Enjoy cooking demonstrations by Shawn Engberg with The Alley Rose! Plus great food\, drinks\, register to win prizes and new people to mix and mingle with! Don't miss it!
X-ALT-DESC;FMTTYPE=text/html:Join us for a Business After Hours at Look What&#39\;s Cookin new location! Enjoy cooking demonstrations by Shawn Engberg with The Alley Rose! Plus great food\, drinks\, register to win prizes and new people to mix and mingle with! Don&#39\;t miss it!
LOCATION:5012 3rd Ave.\, #175
UID:e.1404.8797
SEQUENCE:3
DTSTAMP:20260421T171732Z
URL:https://chambermaster.kearneycoc.org/events/details/bah-look-what-s-cookin-08-31-2016-8797
END:VEVENT

END:VCALENDAR
