BEGIN:VCALENDAR
VERSION:2.0
PRODID:-//ChamberMaster//Event Calendar 2.0//EN
METHOD:PUBLISH
X-PUBLISHED-TTL:P3D
REFRESH-INTERVAL:P3D
CALSCALE:GREGORIAN
BEGIN:VEVENT
DTSTART:20151104T230000Z
DTEND:20151105T010000Z
X-MICROSOFT-CDO-ALLDAYEVENT:FALSE
SUMMARY:BAH - Loper Catering/UNK Dining Services
DESCRIPTION:Join us for a fun night at UNK! They will be serving appetizers and beverages\, just in time to sample and book catering for a holiday event you might be hosting! Bring your coworkers or a guest and enjoy another great Business After Hours!
X-ALT-DESC;FMTTYPE=text/html:Join us for a fun night at UNK! They will be serving appetizers and beverages\, just in time to sample and book catering for a holiday event you might be hosting! Bring your coworkers or a guest and enjoy another great Business After Hours!<br />\n&nbsp\;
LOCATION:Ponderosa Room of Nebraskan Student Union 1013 W. 27th St.
UID:e.1404.6150
SEQUENCE:3
DTSTAMP:20260422T083800Z
URL:https://chambermaster.kearneycoc.org/events/details/bah-loper-catering-unk-dining-services-11-04-2015-6150
END:VEVENT

END:VCALENDAR
