BEGIN:VCALENDAR
VERSION:2.0
PRODID:-//ChamberMaster//Event Calendar 2.0//EN
METHOD:PUBLISH
X-PUBLISHED-TTL:P3D
REFRESH-INTERVAL:P3D
CALSCALE:GREGORIAN
BEGIN:VEVENT
DTSTART:20131017T220000Z
DTEND:20131018T000000Z
X-MICROSOFT-CDO-ALLDAYEVENT:FALSE
SUMMARY:BAH- Northridge
DESCRIPTION:Join the Chamber for a Business After Hours At Emeritus at Northridge Place. They will be serving hors d'oeuvres and cocktails. There will also be a drawing for a special giveaway!
X-ALT-DESC;FMTTYPE=text/html:Join the Chamber for a Business After Hours At Emeritus at Northridge Place. They will be serving hors d&#39\;oeuvres and cocktails. There will also be a drawing for a special giveaway!&nbsp\;
LOCATION:5410 17th Ave Kearney\, NE 68845
UID:e.1404.3295
SEQUENCE:3
DTSTAMP:20260424T020442Z
URL:https://chambermaster.kearneycoc.org/events/details/bah-northridge-10-17-2013-3295
END:VEVENT

END:VCALENDAR
