BEGIN:VCALENDAR
VERSION:2.0
PRODID:-//ChamberMaster//Event Calendar 2.0//EN
METHOD:PUBLISH
X-PUBLISHED-TTL:P3D
REFRESH-INTERVAL:P3D
CALSCALE:GREGORIAN
BEGIN:VEVENT
DTSTART:20130523T223000Z
DTEND:20130524T003000Z
X-MICROSOFT-CDO-ALLDAYEVENT:FALSE
SUMMARY:BAH: Platte Valley State Bank
DESCRIPTION:Join us for Business After Hours\, hosted by Platte Valley State Bank in the main lobby area
X-ALT-DESC;FMTTYPE=text/html:Join us for Business After Hours\, hosted by Platte Valley State Bank in the main lobby area
LOCATION:2223 2nd Ave
UID:e.1404.2252
SEQUENCE:3
DTSTAMP:20260424T143441Z
URL:https://chambermaster.kearneycoc.org/events/details/bah-platte-valley-state-bank-05-23-2013-2252
END:VEVENT

END:VCALENDAR
