BEGIN:VCALENDAR
VERSION:2.0
PRODID:-//ChamberMaster//Event Calendar 2.0//EN
METHOD:PUBLISH
X-PUBLISHED-TTL:P3D
REFRESH-INTERVAL:P3D
CALSCALE:GREGORIAN
BEGIN:VEVENT
DTSTART:20160428T220000Z
DTEND:20160429T000000Z
X-MICROSOFT-CDO-ALLDAYEVENT:FALSE
SUMMARY:BAH: Schrock Chiropractic
DESCRIPTION:Come celebrate with us as we welcome our newest chiropractor\, Dr. Creighton Hinze\, to our practice! You will get the opportunity to check out our new facility by taking a tour through our patient rooms and therapy area. You will also get a chance to learn how we as a community are raising money for nonprofit organizations and how you can be a part of it! There will be a cash bar and hors d'oeurves from Cunningham's as well as a prize drawing!
X-ALT-DESC;FMTTYPE=text/html:Come celebrate with us as we welcome our newest chiropractor\, Dr. Creighton Hinze\, to our practice! You will get the opportunity to check out our new facility by taking a tour through our patient rooms and therapy area. You will also get a chance to learn how we as a community are raising money for nonprofit organizations and how you can be a part of it! There will be a cash bar and hors d&rsquo\;oeurves from Cunningham&#39\;s as well as a prize drawing!
LOCATION:5911 2nd Avenue West
UID:e.1404.7329
SEQUENCE:3
DTSTAMP:20260421T233844Z
URL:https://chambermaster.kearneycoc.org/events/details/bah-schrock-chiropractic-04-28-2016-7329
END:VEVENT

END:VCALENDAR
