BEGIN:VCALENDAR
VERSION:2.0
PRODID:-//ChamberMaster//Event Calendar 2.0//EN
METHOD:PUBLISH
X-PUBLISHED-TTL:P3D
REFRESH-INTERVAL:P3D
CALSCALE:GREGORIAN
BEGIN:VEVENT
DTSTART:20150326T220000Z
DTEND:20150327T000000Z
X-MICROSOFT-CDO-ALLDAYEVENT:FALSE
SUMMARY:BAH: Sozo/Team Concepts
DESCRIPTION:Chef Travis Evans will be serving some delicious hors d' oeuvres and refreshments!
X-ALT-DESC;FMTTYPE=text/html:Chef Travis Evans will be serving some delicious hors d&#39\; oeuvres and refreshments!
LOCATION:Sozo 1105 2nd Avenue
UID:e.1404.5393
SEQUENCE:3
DTSTAMP:20260422T225508Z
URL:https://chambermaster.kearneycoc.org/events/details/bah-sozo-team-concepts-03-26-2015-5393
END:VEVENT

END:VCALENDAR
