BEGIN:VCALENDAR
VERSION:2.0
PRODID:-//ChamberMaster//Event Calendar 2.0//EN
METHOD:PUBLISH
X-PUBLISHED-TTL:P3D
REFRESH-INTERVAL:P3D
CALSCALE:GREGORIAN
BEGIN:VEVENT
DTSTART:20160407T220000Z
DTEND:20160408T000000Z
X-MICROSOFT-CDO-ALLDAYEVENT:FALSE
SUMMARY:BAH: Team Concepts
DESCRIPTION:Join us for Business After Hours at Team Concepts. Catered by Cunningham's and Sozo. Going to be another great event that you don't want to miss! #getconnected
X-ALT-DESC;FMTTYPE=text/html:Join us for Business After Hours at Team Concepts. Catered by Cunningham&#39\;s and Sozo. Going to be another great event that you don&#39\;t want to miss! #getconnected
LOCATION:301 Central Avenue
UID:e.1404.6732
SEQUENCE:3
DTSTAMP:20260421T235315Z
URL:https://chambermaster.kearneycoc.org/events/details/bah-team-concepts-04-07-2016-6732
END:VEVENT

END:VCALENDAR
