BEGIN:VCALENDAR
VERSION:2.0
PRODID:-//ChamberMaster//Event Calendar 2.0//EN
METHOD:PUBLISH
X-PUBLISHED-TTL:P3D
REFRESH-INTERVAL:P3D
CALSCALE:GREGORIAN
BEGIN:VEVENT
DTSTART:20201022T220000Z
DTEND:20201023T000000Z
X-MICROSOFT-CDO-ALLDAYEVENT:FALSE
SUMMARY:BAH - The Rustic Patch / Edith Joi / Bow & Arrow
DESCRIPTION:Join us for Business After Hours and 5th Birthday Bash for The Rustic Patch / Edith Joi / Bow & Arrow!
X-ALT-DESC;FMTTYPE=text/html:Join us for Business After Hours and 5th Birthday Bash for <a href="https://www.therusticpatch.com/">The Rustic Patch</a> / <a href="https://www.facebook.com/edithjoi">Edith Joi</a> / <a href="https://bowandarrowkearney.com/">Bow &amp\; Arrow</a>!
LOCATION:2110 / 2122 / 2112 Central Ave.
UID:e.1404.18728
SEQUENCE:3
DTSTAMP:20260424T223241Z
URL:https://chambermaster.kearneycoc.org/events/details/bah-the-rustic-patch-edith-joi-bow-arrow-18728
END:VEVENT

END:VCALENDAR
