BEGIN:VCALENDAR
VERSION:2.0
PRODID:-//ChamberMaster//Event Calendar 2.0//EN
METHOD:PUBLISH
X-PUBLISHED-TTL:P3D
REFRESH-INTERVAL:P3D
CALSCALE:GREGORIAN
BEGIN:VEVENT
DTSTART;VALUE=DATE:20130919
DTEND;VALUE=DATE:20130920
TRANSP:TRANSPARENT
X-MICROSOFT-CDO-ALLDAYEVENT:TRUE
SUMMARY:BAH: Tonniges & Associates
DESCRIPTION:Help us celebrate 10 years of business for Tonniges & Associates with a Business After Hours.
X-ALT-DESC;FMTTYPE=text/html:Help us celebrate 10 years of business for Tonniges &amp\; Associates with a Business After Hours.
LOCATION:204 E 25th Street
UID:e.1404.2244
SEQUENCE:3
DTSTAMP:20260424T040002Z
URL:https://chambermaster.kearneycoc.org/events/details/bah-tonniges-associates-09-19-2013-2244
END:VEVENT

END:VCALENDAR
