BEGIN:VCALENDAR
VERSION:2.0
PRODID:-//ChamberMaster//Event Calendar 2.0//EN
METHOD:PUBLISH
X-PUBLISHED-TTL:P3D
REFRESH-INTERVAL:P3D
CALSCALE:GREGORIAN
BEGIN:VEVENT
DTSTART:20130603T220000Z
DTEND:20130604T000000Z
X-MICROSOFT-CDO-ALLDAYEVENT:FALSE
SUMMARY:BAH: Trails & Rails Museum
DESCRIPTION:Discover the history of Trails and Rails along the Great Platte River Road.\n\n\n\nJoin us at the Trails & Rails Museum for Business After Hours on Monday\, June 3rd from 7-10pm.  Food & drink provided to all attendees
X-ALT-DESC;FMTTYPE=text/html:<span style="color: rgb(102\, 51\, 0)\; font-size: large\;">Discover the history of Trails and Rails along the Great Platte River Road.</span><br />\n<br />\nJoin us at the Trails &amp\; Rails Museum for Business After Hours on Monday\, June 3rd from 7-10pm. &nbsp\;Food &amp\; drink provided to all attendees
LOCATION:710 W 11th Street
UID:e.1404.3199
SEQUENCE:3
DTSTAMP:20260424T102010Z
URL:https://chambermaster.kearneycoc.org/events/details/bah-trails-rails-museum-06-03-2013-3199
END:VEVENT

END:VCALENDAR
