BEGIN:VCALENDAR
VERSION:2.0
PRODID:-//ChamberMaster//Event Calendar 2.0//EN
METHOD:PUBLISH
X-PUBLISHED-TTL:P3D
REFRESH-INTERVAL:P3D
CALSCALE:GREGORIAN
BEGIN:VEVENT
DTSTART:20190926T220000Z
DTEND:20190927T000000Z
X-MICROSOFT-CDO-ALLDAYEVENT:FALSE
SUMMARY:BAH - United Way of the Kearney Area
DESCRIPTION:Join us for the 2019 United Way Campaign kickoff with CHI Good Samaritan Hospital!
X-ALT-DESC;FMTTYPE=text/html:Join us for the 2019 United Way Campaign kickoff with CHI Good Samaritan Hospital!
LOCATION:CHI Good Samaritan Hospital 10 E 31st St.\, 2nd Floor Conference Room Please park in north parking lot\, enter through the main doors. Go left past the gift shop to the elevators adjacent to the ER waiting room. Take the elevator to the 2nd Floor.
UID:e.1404.16608
SEQUENCE:3
DTSTAMP:20260425T195721Z
URL:https://chambermaster.kearneycoc.org/events/details/bah-united-way-of-the-kearney-area-16608
END:VEVENT

END:VCALENDAR
