BEGIN:VCALENDAR
VERSION:2.0
PRODID:-//ChamberMaster//Event Calendar 2.0//EN
METHOD:PUBLISH
X-PUBLISHED-TTL:P3D
REFRESH-INTERVAL:P3D
CALSCALE:GREGORIAN
BEGIN:VEVENT
DTSTART:20150302T223000Z
DTEND:20150303T003000Z
X-MICROSOFT-CDO-ALLDAYEVENT:FALSE
SUMMARY:BAH: UNK Ethics Week at UNK kickoff
DESCRIPTION:Join us for the kickoff of Ethics Week at UNK and stay for the featured speaker\, Cynthia Cooper.
X-ALT-DESC;FMTTYPE=text/html:Join us for the kickoff of Ethics Week at UNK and stay for the featured speaker\, Cynthia Cooper.
LOCATION:Sandhills Room at The Nebraskan Student Union
UID:e.1404.5977
SEQUENCE:3
DTSTAMP:20260422T225458Z
URL:https://chambermaster.kearneycoc.org/events/details/bah-unk-ethics-week-at-unk-kickoff-03-02-2015-5977
END:VEVENT

END:VCALENDAR
