BEGIN:VCALENDAR
VERSION:2.0
PRODID:-//ChamberMaster//Event Calendar 2.0//EN
METHOD:PUBLISH
X-PUBLISHED-TTL:P3D
REFRESH-INTERVAL:P3D
CALSCALE:GREGORIAN
BEGIN:VEVENT
DTSTART:20140911T220000Z
DTEND:20140912T000000Z
X-MICROSOFT-CDO-ALLDAYEVENT:FALSE
SUMMARY:BAH: UNK Kickoff Loper Football
DESCRIPTION:UNK vs. Washburn home opener for the 2014 Loper football season.
X-ALT-DESC;FMTTYPE=text/html:UNK vs. Washburn home opener for the 2014 Loper football season.
LOCATION:Loperville Festival Zone. South of Cope Stadium.
UID:e.1404.5160
SEQUENCE:3
DTSTAMP:20260423T090031Z
URL:https://chambermaster.kearneycoc.org/events/details/bah-unk-kickoff-loper-football-09-11-2014-5160
END:VEVENT

END:VCALENDAR
