BEGIN:VCALENDAR
VERSION:2.0
PRODID:-//ChamberMaster//Event Calendar 2.0//EN
METHOD:PUBLISH
X-PUBLISHED-TTL:P3D
REFRESH-INTERVAL:P3D
CALSCALE:GREGORIAN
BEGIN:VEVENT
DTSTART:20141023T220000Z
DTEND:20141024T000000Z
X-MICROSOFT-CDO-ALLDAYEVENT:FALSE
SUMMARY:BAH: YMCA
DESCRIPTION:Come celebrate the 20th Anniversary!
X-ALT-DESC;FMTTYPE=text/html:Come celebrate the 20th Anniversary!
LOCATION:YMCA 4500 6th Avenue
UID:e.1404.5315
SEQUENCE:3
DTSTAMP:20260423T065456Z
URL:https://chambermaster.kearneycoc.org/events/details/bah-ymca-10-23-2014-5315
END:VEVENT

END:VCALENDAR
