BEGIN:VCALENDAR
VERSION:2.0
PRODID:-//ChamberMaster//Event Calendar 2.0//EN
METHOD:PUBLISH
X-PUBLISHED-TTL:P3D
REFRESH-INTERVAL:P3D
CALSCALE:GREGORIAN
BEGIN:VEVENT
DTSTART:20160604T210000Z
DTEND:20160605T030000Z
X-MICROSOFT-CDO-ALLDAYEVENT:FALSE
SUMMARY:BBQ Fundraiser
DESCRIPTION:Our annual fundraiser at Yanney Park's Heritage Days. We will be located in the food court serving a $5 meal deal\, which includes your choice of hamburger or hot dog\, chips and bottled water All proceeds go towards our programming\, which provides assistance to individuals in Buffalo County.
X-ALT-DESC;FMTTYPE=text/html:Our annual fundraiser at Yanney Park&#39\;s Heritage Days. We will be located in the food court serving a $5 meal deal\, which includes your choice of hamburger or hot dog\, chips and bottled water All proceeds go towards our programming\, which provides assistance to individuals in Buffalo County.
LOCATION:Yanney Park Heritage Days Food Court
UID:e.1404.8775
SEQUENCE:3
DTSTAMP:20260421T201018Z
URL:https://chambermaster.kearneycoc.org/events/details/bbq-fundraiser-06-04-2016-8775
END:VEVENT

END:VCALENDAR
