BEGIN:VCALENDAR
VERSION:2.0
PRODID:-//ChamberMaster//Event Calendar 2.0//EN
METHOD:PUBLISH
X-PUBLISHED-TTL:P3D
REFRESH-INTERVAL:P3D
CALSCALE:GREGORIAN
BEGIN:VEVENT
DTSTART:20220625T220000Z
DTEND:20220626T000000Z
X-MICROSOFT-CDO-ALLDAYEVENT:FALSE
SUMMARY:BBQ on the Bricks
DESCRIPTION:Members of the MIDWEST BARBECUE ASSOCIATION will be competing for the best BBQ.\n\nTHE EAGLES WILL BE SERVING A PLATED MEAL PROVIDED BY THE TEAMS!
X-ALT-DESC;FMTTYPE=text/html:Members of the MIDWEST BARBECUE ASSOCIATION will be competing for the best BBQ.<br />\nTHE EAGLES WILL BE SERVING A PLATED MEAL PROVIDED BY THE TEAMS!
LOCATION:Downtown Kearney 24th Street from Ave A to 1st Ave https://sites.google.com/view/foe2722/events/bbq
UID:e.1404.19677
SEQUENCE:3
DTSTAMP:20260423T115723Z
URL:https://chambermaster.kearneycoc.org/events/details/bbq-on-the-bricks-06-25-2022-19677
END:VEVENT

END:VCALENDAR
