BEGIN:VCALENDAR
VERSION:2.0
PRODID:-//ChamberMaster//Event Calendar 2.0//EN
METHOD:PUBLISH
X-PUBLISHED-TTL:P3D
REFRESH-INTERVAL:P3D
CALSCALE:GREGORIAN
BEGIN:VEVENT
DTSTART;VALUE=DATE:20160826
DTEND;VALUE=DATE:20160828
TRANSP:TRANSPARENT
X-MICROSOFT-CDO-ALLDAYEVENT:TRUE
SUMMARY:BBQ on the Bricks
DESCRIPTION:Make plans now to join us in Kearney\, NE for our second annual Kearney BBQ on the Bricks event\, August 26-27\, 2016.  The BBQ competition\, sanctioned by the Kansas City Barbecue Society is a two day event you won't want to miss!  See you there!\n\n \n \n\n\nSCHEDULE OF EVENTS \n\n \n\nFriday\, August 26\, 2016  \n\n\n	4:30 p.m. - Gates and beer garden open to the public\n	5:15 p.m. - Country Style Pork Rib Portions & Denver Beef Steak Portions Judging turn in\n	5:30 p.m. - Public BBQ Tasting\n	7:00 p.m. - Entertainment provided in the beer garden located to the west of Cunningham's Journal - Country artist Jared Wade\n	12:00 p.m. - Quiet hours begin - STRICTLY ENFORCED\n\n\n\n$15 ADVANCE TICKET ($20 day of) includes: Admission to  BBQ Tasting & Voting\, plus admission into the beer garden & concert
X-ALT-DESC;FMTTYPE=text/html:<span style="color: rgb(0\, 0\, 0)\; font-family: Arial\, Helvetica\, sans-serif\; font-size: 14px\; line-height: 19.6px\; background-color: rgb(245\, 244\, 235)\;">Make plans now to join us in Kearney\, NE for our second annual Kearney BBQ on the Bricks event\, August 26-27\, 2016. &nbsp\;The BBQ competition\, sanctioned&nbsp\;by the Kansas City Barbecue Society is a&nbsp\;two day event you won&#39\;t want to miss! &nbsp\;See you there!</span><br />\n&nbsp\;\n<div>&nbsp\;</div>\n\n<div>\n<h1 style="-webkit-tap-highlight-color: rgba(0\, 0\, 0\, 0)\; margin-top: 0px\; margin-bottom: 0px\; font-size: 42px\; line-height: 1.01\; font-family: &quot\;Vast Shadow&quot\;\, serif\; text-transform: uppercase\; text-align: center\; background-color: rgb(245\, 244\, 235)\;"><span style="-webkit-tap-highlight-color: rgba(0\, 0\, 0\, 0)\; margin-top: 0px\; margin-bottom: 0px\; font-size: 48px\;">SCHEDULE OF EVENTS</span><span style="-webkit-tap-highlight-color: rgba(0\, 0\, 0\, 0)\; margin-top: 0px\; margin-bottom: 0px\; font-family: arial\, helvetica\, sans-serif\;"><span style="-webkit-tap-highlight-color: rgba(0\, 0\, 0\, 0)\; margin-top: 0px\; margin-bottom: 0px\; font-size: 16px\;">&#8203\;</span></span></h1>\n\n<p style="-webkit-tap-highlight-color: rgba(0\, 0\, 0\, 0)\; margin-top: 0px\; margin-bottom: 0px\; font-family: Arial\, Helvetica\, sans-serif\; font-size: 14px\; line-height: 19.6px\; background-color: rgb(245\, 244\, 235)\;">&nbsp\;</p>\n\n<p style="-webkit-tap-highlight-color: rgba(0\, 0\, 0\, 0)\; margin: 0px 0px 15px\; padding: 0px\; outline: 0px\; border: 0px currentcolor\; border-image-source: none\; color: rgb(69\, 69\, 69)\; line-height: 20.39px\; font-family: Helvetica\, Arial\, FreeSans\, sans-serif\; font-size: 12px\; background: rgb(247\, 242\, 235)\;"><strong style="-webkit-tap-highlight-color: rgba(0\, 0\, 0\, 0)\; margin-top: 0px\; margin-bottom: 0px\;"><span style="-webkit-tap-highlight-color: rgba(0\, 0\, 0\, 0)\; margin-top: 0px\; margin-bottom: 0px\; font-size: 18px\;"><span style="-webkit-tap-highlight-color: rgba(0\, 0\, 0\, 0)\; margin: 0px\; padding: 0px\; outline: 0px\; border: 0px currentcolor\; border-image-source: none\; text-decoration: underline\; background: none\;"><span style="-webkit-tap-highlight-color: rgba(0\, 0\, 0\, 0)\; margin: 0px\; padding: 0px\; outline: 0px\; border: 0px currentcolor\; border-image-source: none\; font-family: arial\, helvetica\, sans-serif\; background: none\;">Friday\, August 26\, 2016</span></span></span></strong><strong style="-webkit-tap-highlight-color: rgba(0\, 0\, 0\, 0)\; margin-top: 0px\; margin-bottom: 0px\;"><span style="-webkit-tap-highlight-color: rgba(0\, 0\, 0\, 0)\; margin-top: 0px\; margin-bottom: 0px\; font-size: 18px\;"><span style="-webkit-tap-highlight-color: rgba(0\, 0\, 0\, 0)\; margin: 0px\; padding: 0px\; outline: 0px\; border: 0px currentcolor\; border-image-source: none\; text-decoration: underline\; background: none\;"><span style="-webkit-tap-highlight-color: rgba(0\, 0\, 0\, 0)\; margin: 0px\; padding: 0px\; outline: 0px\; border: 0px currentcolor\; border-image-source: none\; font-family: arial\, helvetica\, sans-serif\; background: none\;">&#8203\;</span></span></span></strong><span style="-webkit-tap-highlight-color: rgba(0\, 0\, 0\, 0)\; margin: 0px\; padding: 0px\; outline: 0px\; border: 0px currentcolor\; border-image-source: none\; font-family: arial\, helvetica\, sans-serif\; font-size: 12pt\; background: none\;">&#8203\;</span></p>\n\n<ul style="-webkit-tap-highlight-color: rgba(0\, 0\, 0\, 0)\; margin: 0px\; font-family: Arial\, Helvetica\, sans-serif\; font-size: 14px\; padding: 0px 0px 0px 15px\; outline: 0px\; border: 0px currentcolor\; border-image-source: none\; color: rgb(69\, 69\, 69)\; line-height: 20.39px\; list-style-image: none\; background: rgb(247\, 242\, 235)\;">\n	<li style="-webkit-tap-highlight-color: rgba(0\, 0\, 0\, 0)\; margin: 0px\; font-family: Helvetica\, Arial\, FreeSans\, sans-serif\; font-size: 12px\; padding: 0px\; outline: 0px\; border: 0px currentcolor\; border-image-source: none\; background-image: none\; background-attachment: initial\; background-color: initial\; background-size: initial\; background-origin: initial\; background-clip: initial\; background-position: initial\; background-repeat: initial\;"><span style="-webkit-tap-highlight-color: rgba(0\, 0\, 0\, 0)\; margin: 0px\; padding: 0px\; outline: 0px\; border: 0px currentcolor\; border-image-source: none\; font-family: arial\, helvetica\, sans-serif\; font-size: 12pt\; background: none\;">4:30 p.m. - Gates and beer garden open to the public</span></li>\n	<li style="-webkit-tap-highlight-color: rgba(0\, 0\, 0\, 0)\; margin: 0px\; font-family: Helvetica\, Arial\, FreeSans\, sans-serif\; font-size: 12px\; padding: 0px\; outline: 0px\; border: 0px currentcolor\; border-image-source: none\; background-image: none\; background-attachment: initial\; background-color: initial\; background-size: initial\; background-origin: initial\; background-clip: initial\; background-position: initial\; background-repeat: initial\;"><span style="-webkit-tap-highlight-color: rgba(0\, 0\, 0\, 0)\; margin: 0px\; padding: 0px\; outline: 0px\; border: 0px currentcolor\; border-image-source: none\; font-family: arial\, helvetica\, sans-serif\; font-size: 12pt\; background: none\;">5:15 p.m. - Country Style Pork Rib Portions &amp\; Denver Beef Steak Portions Judging turn in</span></li>\n	<li style="-webkit-tap-highlight-color: rgba(0\, 0\, 0\, 0)\; margin: 0px\; font-family: Helvetica\, Arial\, FreeSans\, sans-serif\; font-size: 12px\; padding: 0px\; outline: 0px\; border: 0px currentcolor\; border-image-source: none\; background-image: none\; background-attachment: initial\; background-color: initial\; background-size: initial\; background-origin: initial\; background-clip: initial\; background-position: initial\; background-repeat: initial\;"><span style="-webkit-tap-highlight-color: rgba(0\, 0\, 0\, 0)\; margin: 0px\; padding: 0px\; outline: 0px\; border: 0px currentcolor\; border-image-source: none\; font-family: arial\, helvetica\, sans-serif\; font-size: 12pt\; background: none\;">5:30 p.m. - Public BBQ Tasting</span></li>\n	<li style="-webkit-tap-highlight-color: rgba(0\, 0\, 0\, 0)\; margin: 0px\; font-family: Helvetica\, Arial\, FreeSans\, sans-serif\; font-size: 12px\; padding: 0px\; outline: 0px\; border: 0px currentcolor\; border-image-source: none\; background-image: none\; background-attachment: initial\; background-color: initial\; background-size: initial\; background-origin: initial\; background-clip: initial\; background-position: initial\; background-repeat: initial\;"><span style="-webkit-tap-highlight-color: rgba(0\, 0\, 0\, 0)\; margin-top: 0px\; margin-bottom: 0px\; font-size: 16px\;"><span style="-webkit-tap-highlight-color: rgba(0\, 0\, 0\, 0)\; margin-top: 0px\; margin-bottom: 0px\; font-family: arial\, helvetica\, sans-serif\;">7:00 p.m. -&nbsp\;Entertainment provided in the&nbsp\;beer garden located to the west of Cunningham&#39\;s&nbsp\;Journal - Country artist Jared Wade</span></span></li>\n	<li style="-webkit-tap-highlight-color: rgba(0\, 0\, 0\, 0)\; margin: 0px\; padding: 0px\; outline: 0px\; border: 0px currentcolor\; border-image-source: none\; background-image: none\; background-attachment: initial\; background-color: initial\; background-size: initial\; background-origin: initial\; background-clip: initial\; background-position: initial\; background-repeat: initial\;"><font face="arial\, helvetica\, sans-serif" style="-webkit-tap-highlight-color: rgba(0\, 0\, 0\, 0)\;"><span style="-webkit-tap-highlight-color: rgba(0\, 0\, 0\, 0)\; margin-top: 0px\; margin-bottom: 0px\; font-size: 16px\;">12:00 p.m. - Quiet hours begin -&nbsp\;<strong style="-webkit-tap-highlight-color: rgba(0\, 0\, 0\, 0)\; margin-top: 0px\; margin-bottom: 0px\;">STRICTLY ENFORCED</strong></span></font></li>\n</ul>\n\n<div>\n<p style="-webkit-tap-highlight-color: rgba(0\, 0\, 0\, 0)\; margin-top: 0px\; margin-bottom: 0px\; font-family: Arial\, Helvetica\, sans-serif\; font-size: 14px\; line-height: 19.6px\; background-color: rgb(245\, 244\, 235)\;"><strong style="-webkit-tap-highlight-color: rgba(0\, 0\, 0\, 0)\; margin-top: 0px\; margin-bottom: 0px\;">$15&nbsp\;ADVANCE TICKET ($20&nbsp\;day of)&nbsp\;includes: Admission to&nbsp\;&nbsp\;BBQ Tasting &amp\; Voting\, plus admission into the beer garden &amp\; concert</strong></p>\n</div>\n</div>\n
LOCATION:Downtown Kearney
UID:e.1404.7233
SEQUENCE:3
DTSTAMP:20260421T170104Z
URL:https://chambermaster.kearneycoc.org/events/details/bbq-on-the-bricks-08-26-2016-7233
END:VEVENT

END:VCALENDAR
