BEGIN:VCALENDAR
VERSION:2.0
PRODID:-//ChamberMaster//Event Calendar 2.0//EN
METHOD:PUBLISH
X-PUBLISHED-TTL:P3D
REFRESH-INTERVAL:P3D
CALSCALE:GREGORIAN
BEGIN:VEVENT
DTSTART:20160123T190000Z
DTEND:20160123T200000Z
X-MICROSOFT-CDO-ALLDAYEVENT:FALSE
SUMMARY:Better Business Bureau Seminar
DESCRIPTION:Jeff Niebaum and Margo Riekes from the Better Business Bureau (BBB) will present information on the BBB in general. Specifically\, how the BBB can assist your business\, how they can help protect your business from scams\, and what the organization has done to help set advertising standards in Nebraska. This event is open to the public.\n\n\n\nPlease RSVP to Con Neverve at conradsauto2005@hotmail.com
X-ALT-DESC;FMTTYPE=text/html:<span style="font-family:calibri\,sans-serif\;"><span style="font-size:11.0pt\;">Jeff Niebaum and Margo Riekes from the Better Business Bureau (BBB) will present information on the BBB in general. Specifically\, how the BBB can assist your business\, how they can help protect your business from scams\, and what the organization has done to help set advertising standards in Nebraska. This event is open to the public.<br />\n<br />\nPlease RSVP to Con Neverve&nbsp\;at <a href="mailto:conradsauto2005@hotmail.com?subject=BBB%20Seminar%20RSVP&amp\;body=Please%20register%20me%20for%20the%20BBB%20Seminar%20on%20January%2023%20at%20the%20Holiday%20Inn.%20">conradsauto2005@hotmail.com</a>&nbsp\;</span></span>
LOCATION:Holiday Inn 508 2nd Avenue South Kearney\, NE 68847
UID:e.1404.7254
SEQUENCE:3
DTSTAMP:20260422T064100Z
URL:https://chambermaster.kearneycoc.org/events/details/better-business-bureau-seminar-01-23-2016-7254
END:VEVENT

END:VCALENDAR
