BEGIN:VCALENDAR
VERSION:2.0
PRODID:-//ChamberMaster//Event Calendar 2.0//EN
METHOD:PUBLISH
X-PUBLISHED-TTL:P3D
REFRESH-INTERVAL:P3D
CALSCALE:GREGORIAN
BEGIN:VEVENT
DTSTART:20150618T220000Z
DTEND:20150619T020000Z
X-MICROSOFT-CDO-ALLDAYEVENT:FALSE
SUMMARY:Big Golf Event
DESCRIPTION:Putt for BIG Prizes and BIG Discounts! Putt any hole in the ?9 hole mall course? for a chance to win BIG golf prizes\, like a round of golf\, and BIG discounts to your favorite stores. Play all 9 holes and enter to win Hilltop Mall gift cards and other grand prizes! Participating stores will be clearly marked. No registration necessary\, all levels and ages welcome!
X-ALT-DESC;FMTTYPE=text/html:Putt for BIG Prizes and BIG Discounts! Putt any hole in the ?9 hole mall course? for a chance to win BIG golf prizes\, like a round of golf\, and BIG discounts to your favorite stores. Play all 9 holes and enter to win Hilltop Mall gift cards and other grand prizes! Participating stores will be clearly marked. No registration necessary\, all levels and ages welcome!
LOCATION:Hilltop Mall 5011 2nd Ave Kearney\, NE 68847
UID:e.1404.6447
SEQUENCE:3
DTSTAMP:20260422T164920Z
URL:https://chambermaster.kearneycoc.org/events/details/big-golf-event-06-18-2015-6447
END:VEVENT

END:VCALENDAR
