BEGIN:VCALENDAR
VERSION:2.0
PRODID:-//ChamberMaster//Event Calendar 2.0//EN
METHOD:PUBLISH
X-PUBLISHED-TTL:P3D
REFRESH-INTERVAL:P3D
CALSCALE:GREGORIAN
BEGIN:VEVENT
DTSTART:20161117T010000Z
DTEND:20161117T030000Z
X-MICROSOFT-CDO-ALLDAYEVENT:FALSE
SUMMARY:Big Idea Kearney- Live Event
DESCRIPTION:The top 10 pitches in the 6th Annual Big Idea Kearney Idea Contest will be delivered at 7pm on Wednesday\, November 16th. Enhance your entrepreneurial skills in a fun and relaxed atmosphere at Cunningham's Journal in downtown Kearney\, Nebraska. The purpose of the event is to support a culture of entrepreneurship in the area by providing invaluable feedback through networking with other entrepreneurs and community leaders.
X-ALT-DESC;FMTTYPE=text/html:The top 10 pitches in the 6th Annual Big Idea Kearney Idea Contest will be delivered at 7pm on Wednesday\, November 16th. Enhance your entrepreneurial skills in a fun and relaxed atmosphere at Cunningham&rsquo\;s Journal in downtown Kearney\, Nebraska. The purpose of the event is to support a culture of entrepreneurship in the area by providing invaluable feedback through networking with other entrepreneurs and community leaders.
LOCATION:Cunningham's Journal 15 West 23rd Street Kearney\, NE 68848
UID:e.1404.9087
SEQUENCE:3
DTSTAMP:20260421T121728Z
URL:https://chambermaster.kearneycoc.org/events/details/big-idea-kearney-live-event-9087
END:VEVENT

END:VCALENDAR
