BEGIN:VCALENDAR
VERSION:2.0
PRODID:-//ChamberMaster//Event Calendar 2.0//EN
METHOD:PUBLISH
X-PUBLISHED-TTL:P3D
REFRESH-INTERVAL:P3D
CALSCALE:GREGORIAN
BEGIN:VEVENT
DTSTART:20140419T200000Z
DTEND:20140419T220000Z
X-MICROSOFT-CDO-ALLDAYEVENT:FALSE
SUMMARY:Big Igloo Easter Egg Hunt
DESCRIPTION:Join us for the annual Big Igloo Easter Egg Hunt with over 20\,000 eggs\, inflatables and prizes!
X-ALT-DESC;FMTTYPE=text/html:Join us for the annual Big Igloo Easter Egg Hunt with over 20\,000 eggs\, inflatables and prizes!
LOCATION:Grace Fellowship (The Big Igloo) 4305 19th Ave Kearney\, NE 68845
UID:e.1404.4689
SEQUENCE:3
DTSTAMP:20260423T162749Z
URL:https://chambermaster.kearneycoc.org/events/details/big-igloo-easter-egg-hunt-04-19-2014-4689
END:VEVENT

END:VCALENDAR
