BEGIN:VCALENDAR
VERSION:2.0
PRODID:-//ChamberMaster//Event Calendar 2.0//EN
METHOD:PUBLISH
X-PUBLISHED-TTL:P3D
REFRESH-INTERVAL:P3D
CALSCALE:GREGORIAN
BEGIN:VEVENT
DTSTART:20140429T200000Z
DTEND:20140429T230000Z
X-MICROSOFT-CDO-ALLDAYEVENT:FALSE
SUMMARY:Bike Helmet Fitting Clinic
DESCRIPTION:Safe Kids estimates that less than half of children ages 5-14 wear helmets when biking\, rollerblading\, skateboarding\, etc.\n	More than a third of children who do use helmets wear them improperly.\n\nGet a free helmet at our bicycle safety event\n\nAttend the AAA Bicycle Safety Event with your child and receive:\n\n	FRee child's bicycle helmet while supplies last   for children ages:\n	Helmet fitting (child and helmet must accompany you)\n	Bicycle safety tips\n\nMake plans now to attend!
X-ALT-DESC;FMTTYPE=text/html:<ul>\n	<li><em>Safe Kids </em>estimates that less than half of children ages 5-14 wear helmets when biking\, rollerblading\, skateboarding\, etc.</li>\n	<li style="margin-top:0in\;margin-right:0in\;margin-bottom:13.95pt\;">More than a third of children who do use helmets wear them improperly.</li>\n</ul>\n<span style="color:#009ED5\;"><span style="font-size:14.0pt\;">Get a free helmet at our bicycle safety event</span></span><br />\nAttend the AAA Bicycle Safety Event with your child and receive:\n<ul>\n	<li><strong>FRee</strong> child&rsquo\;s bicycle helmet while supplies last &mdash\; for children ages:</li>\n	<li>Helmet fitting (child and helmet must accompany you)</li>\n	<li style="margin-top:0in\;margin-right:0in\;margin-bottom:25.45pt\;">Bicycle safety tips</li>\n</ul>\n<strong><span style="color:#E53B2C\;"><span style="font-size:14.0pt\;">Make plans now to attend!</span></span></strong>
LOCATION:AAA 3359 W. Capital Ave Grand Island\, NE
UID:e.1404.4694
SEQUENCE:3
DTSTAMP:20260423T164045Z
URL:https://chambermaster.kearneycoc.org/events/details/bike-helmet-fitting-clinic-04-29-2014-4694
END:VEVENT

END:VCALENDAR
