BEGIN:VCALENDAR
VERSION:2.0
PRODID:-//ChamberMaster//Event Calendar 2.0//EN
METHOD:PUBLISH
X-PUBLISHED-TTL:P3D
REFRESH-INTERVAL:P3D
CALSCALE:GREGORIAN
BEGIN:VEVENT
DTSTART:20160715T010000Z
DTEND:20160715T030000Z
X-MICROSOFT-CDO-ALLDAYEVENT:FALSE
SUMMARY:Bill Haley Jr. and the Comets
DESCRIPTION:
X-ALT-DESC;FMTTYPE=text/html:
LOCATION:Merryman Performing Arts Center
UID:e.1404.8897
SEQUENCE:3
DTSTAMP:20260421T201658Z
URL:https://chambermaster.kearneycoc.org/events/details/bill-haley-jr-and-the-comets-07-14-2016-8897
END:VEVENT

END:VCALENDAR
