BEGIN:VCALENDAR
VERSION:2.0
PRODID:-//ChamberMaster//Event Calendar 2.0//EN
METHOD:PUBLISH
X-PUBLISHED-TTL:P3D
REFRESH-INTERVAL:P3D
CALSCALE:GREGORIAN
BEGIN:VEVENT
DTSTART:20200102T160000Z
DTEND:20200102T220000Z
X-MICROSOFT-CDO-ALLDAYEVENT:FALSE
SUMMARY:Blood Drive
DESCRIPTION:
X-ALT-DESC;FMTTYPE=text/html:
LOCATION:St. Luke's Episcopal Church 2304 2nd Ave Kearney\, NE 68847
UID:e.1404.18300
SEQUENCE:3
DTSTAMP:20260425T132645Z
URL:https://chambermaster.kearneycoc.org/events/details/blood-drive-18300
END:VEVENT

END:VCALENDAR
