BEGIN:VCALENDAR
VERSION:2.0
PRODID:-//ChamberMaster//Event Calendar 2.0//EN
METHOD:PUBLISH
X-PUBLISHED-TTL:P3D
REFRESH-INTERVAL:P3D
CALSCALE:GREGORIAN
BEGIN:VEVENT
DTSTART:20210814T230000Z
DTEND:20210815T020000Z
X-MICROSOFT-CDO-ALLDAYEVENT:FALSE
SUMMARY:Blues On The Banks
DESCRIPTION:Blues On the Banks - An evening of burgers\, brats and Blue Plate Special music on the banks of the Platte River at Rowe Sanctuary. Bring your lawn chairs and appetite an enjoy great music as the sun sets on the river. Sponsored by NebraskaLand National Bank and Steeple Brewing.
X-ALT-DESC;FMTTYPE=text/html:Blues On the Banks - An evening of burgers\, brats and Blue Plate Special music on the banks of the Platte River at Rowe Sanctuary. Bring your lawn chairs and appetite an enjoy great music as the sun sets on the river. Sponsored by NebraskaLand National Bank and Steeple Brewing.
LOCATION:Rowe Sanctuary
UID:e.1404.19365
SEQUENCE:3
DTSTAMP:20260424T035657Z
URL:https://chambermaster.kearneycoc.org/events/details/blues-on-the-banks-19365
END:VEVENT

END:VCALENDAR
