BEGIN:VCALENDAR
VERSION:2.0
PRODID:-//ChamberMaster//Event Calendar 2.0//EN
METHOD:PUBLISH
X-PUBLISHED-TTL:P3D
REFRESH-INTERVAL:P3D
CALSCALE:GREGORIAN
BEGIN:VEVENT
DTSTART:20140823T140000Z
DTEND:20140823T230000Z
X-MICROSOFT-CDO-ALLDAYEVENT:FALSE
SUMMARY:Boy Scout Back 2 School Bash
DESCRIPTION:This event is open to the public. Activities included are: fishing\, kite flying\, water rockets\, archery\, slingshots\, demos\, etc. Door prizes will be given away.
X-ALT-DESC;FMTTYPE=text/html:This event is open to the public. Activities included are: fishing\, kite flying\, water rockets\, archery\, slingshots\, demos\, etc. Door prizes will be given away.
LOCATION:Yanney Park
UID:e.1404.5311
SEQUENCE:3
DTSTAMP:20260423T100025Z
URL:https://chambermaster.kearneycoc.org/events/details/boy-scout-back-2-school-bash-08-23-2014-5311
END:VEVENT

END:VCALENDAR
