BEGIN:VCALENDAR
VERSION:2.0
PRODID:-//ChamberMaster//Event Calendar 2.0//EN
METHOD:PUBLISH
X-PUBLISHED-TTL:P3D
REFRESH-INTERVAL:P3D
CALSCALE:GREGORIAN
BEGIN:VEVENT
DTSTART;VALUE=DATE:20161116
DTEND;VALUE=DATE:20161117
TRANSP:TRANSPARENT
X-MICROSOFT-CDO-ALLDAYEVENT:TRUE
SUMMARY:Break the Buffalo Bucks Bank
DESCRIPTION:The Kearney Area Chamber of Commerce and Hits 106 are teaming up again  for the 7th Annual Break The Buffalo Bucks Bank! Each Wednesday starting November 2 and ending November 23rd\, a winner will be drawn\, the first 3 weeks the winners will receive $106 in Buffalo Bucks\, each week there will be a code to unlock the final weeks winnings\, that winner will receive $1\,006 in Buffalo Bucks!
X-ALT-DESC;FMTTYPE=text/html:The Kearney Area Chamber of Commerce and Hits 106 are teaming up again &nbsp\;for the 7th Annual Break The Buffalo Bucks Bank! Each Wednesday starting November 2 and ending November 23rd\, a winner will be drawn\, the first 3 weeks the winners will receive $106 in Buffalo Bucks\, each week there will be a code to&nbsp\;unlock the final weeks winnings\, that winner will receive $1\,006 in Buffalo Bucks!
LOCATION:
UID:e.1404.9079
SEQUENCE:3
DTSTAMP:20260421T115758Z
URL:https://chambermaster.kearneycoc.org/events/details/break-the-buffalo-bucks-bank-9079
END:VEVENT

END:VCALENDAR
