BEGIN:VCALENDAR
VERSION:2.0
PRODID:-//ChamberMaster//Event Calendar 2.0//EN
METHOD:PUBLISH
X-PUBLISHED-TTL:P3D
REFRESH-INTERVAL:P3D
CALSCALE:GREGORIAN
BEGIN:VEVENT
DTSTART:20220427T130000Z
DTEND:20220427T140000Z
X-MICROSOFT-CDO-ALLDAYEVENT:FALSE
SUMMARY:Breaking-Up with Self-Sabotage - Webinar
DESCRIPTION:Behavior is said to be self-sabotaging when it creates problems and interferes with our long-standing goals. When we give in and engage in negative thoughts and actions\, we create problems in our relationships\, at our place of work\, and within ourselves.\n\n\n\nMy goal is to show you that it is possible to overcome self-sabotaging behaviors and give you the tools you need to get started in making a positive change in your life.
X-ALT-DESC;FMTTYPE=text/html:<span style="background-color:rgb(244\, 244\, 244)\; color:rgb(96\, 96\, 96)\; font-family:roboto\,sans-serif\; font-size:16px">Behavior is said to be self-sabotaging when it creates problems and interferes with our long-standing goals. When we give in and engage in negative thoughts and actions\, we create problems in our relationships\, at our place of work\, and within ourselves.</span><br />\n<br />\n<span style="background-color:rgb(244\, 244\, 244)\; color:rgb(96\, 96\, 96)\; font-family:roboto\,sans-serif\; font-size:16px">My goal is to show you that it is possible to overcome self-sabotaging behaviors and give you the tools you need to get started in making a positive change in your life.</span>
LOCATION:https://risingtideld.leadingthebest.com/WBUSS0001
UID:e.1404.19675
SEQUENCE:3
DTSTAMP:20260423T162935Z
URL:https://chambermaster.kearneycoc.org/events/details/breaking-up-with-self-sabotage-webinar-19675
END:VEVENT

END:VCALENDAR
