BEGIN:VCALENDAR
VERSION:2.0
PRODID:-//ChamberMaster//Event Calendar 2.0//EN
METHOD:PUBLISH
X-PUBLISHED-TTL:P3D
REFRESH-INTERVAL:P3D
CALSCALE:GREGORIAN
BEGIN:VEVENT
DTSTART:20160618T160000Z
DTEND:20160618T190000Z
X-MICROSOFT-CDO-ALLDAYEVENT:FALSE
SUMMARY:Buffalo County Board of Realtors Growing Communities Event
DESCRIPTION:Raising Funds for Habitat for Humanity. Lunch is being served and there will be giveaways.
X-ALT-DESC;FMTTYPE=text/html:Raising Funds for Habitat&nbsp\;for Humanity. Lunch is being served and there will be giveaways.
LOCATION:Builders Warehouse 4600 2nd Avenue
UID:e.1404.8810
SEQUENCE:3
DTSTAMP:20260421T202840Z
URL:https://chambermaster.kearneycoc.org/events/details/buffalo-county-board-of-realtors-growing-communities-event-06-18-2016-8810
END:VEVENT

END:VCALENDAR
