BEGIN:VCALENDAR
VERSION:2.0
PRODID:-//ChamberMaster//Event Calendar 2.0//EN
METHOD:PUBLISH
X-PUBLISHED-TTL:P3D
REFRESH-INTERVAL:P3D
CALSCALE:GREGORIAN
BEGIN:VEVENT
DTSTART:20140522T230000Z
DTEND:20140523T020000Z
X-MICROSOFT-CDO-ALLDAYEVENT:FALSE
SUMMARY:Buffalo County Korean War Hero Flight: Movie Fundraier
DESCRIPTION:Come enjoy a FREE screening of The Bridges At Toko-Ri (1954) hosted by The Buffalo County Korean War Hero Flight. Join us for this special screening at 7pm\, May 22nd. All donations received will support The Buffalo County Korean War Hero Flight. \n\nSet during the Korean War\, a Navy fighter pilot must come to terms with with his own ambivalence towards the war and the fear of having to bomb a set of highly defended bridges.\n\nA raffle drawing will be held with prizes from Cabelas\, Ashley Furniture Home Store\, Midway Auto Group and the Kearney Country Club. Reception to follow.
X-ALT-DESC;FMTTYPE=text/html:Come enjoy a FREE screening of The Bridges At Toko-Ri (1954) hosted by The Buffalo County Korean War Hero Flight. Join us for this special screening at 7pm\, May 22nd. All donations received will support The Buffalo County Korean War Hero Flight.&nbsp\;<br />\nSet during the Korean War\, a Navy fighter pilot must come to terms with with his own ambivalence towards the war and the fear of having to bomb a set of highly defended bridges.<br />\nA raffle drawing will be held with prizes from Cabelas\, Ashley Furniture Home Store\, Midway Auto Group and the Kearney Country Club. Reception to follow.&nbsp\;&nbsp\;&nbsp\;&nbsp\;&nbsp\;
LOCATION:The World Theatre 2318 Central Avenue Kearney\, NE
UID:e.1404.4848
SEQUENCE:3
DTSTAMP:20260423T152149Z
URL:https://chambermaster.kearneycoc.org/events/details/buffalo-county-korean-war-hero-flight-movie-fundraier-05-22-2014-4848
END:VEVENT

END:VCALENDAR
