BEGIN:VCALENDAR
VERSION:2.0
PRODID:-//ChamberMaster//Event Calendar 2.0//EN
METHOD:PUBLISH
X-PUBLISHED-TTL:P3D
REFRESH-INTERVAL:P3D
CALSCALE:GREGORIAN
BEGIN:VEVENT
DTSTART:20110713T151300Z
DTEND:20110713T151300Z
X-MICROSOFT-CDO-ALLDAYEVENT:FALSE
SUMMARY:Builders Bureau
DESCRIPTION:
X-ALT-DESC;FMTTYPE=text/html:
LOCATION:
UID:e.1404.2
SEQUENCE:3
DTSTAMP:20260426T003715Z
URL:https://chambermaster.kearneycoc.org/events/details/builders-bureau-07-13-2011-2
END:VEVENT

END:VCALENDAR
