BEGIN:VCALENDAR
VERSION:2.0
PRODID:-//ChamberMaster//Event Calendar 2.0//EN
METHOD:PUBLISH
X-PUBLISHED-TTL:P3D
REFRESH-INTERVAL:P3D
CALSCALE:GREGORIAN
BEGIN:VEVENT
DTSTART:20130307T230000Z
DTEND:20130308T010000Z
X-MICROSOFT-CDO-ALLDAYEVENT:FALSE
SUMMARY:Business After Hours: American Cancer Society
DESCRIPTION:Join the Kearney Chamber and the American Cancer Society for Business After Hours
X-ALT-DESC;FMTTYPE=text/html:Join the Kearney Chamber and the American Cancer Society for Business After Hours
LOCATION:3808 28th Avenue\, Suite E
UID:e.1404.2214
SEQUENCE:3
DTSTAMP:20260424T160053Z
URL:https://chambermaster.kearneycoc.org/events/details/business-after-hours-american-cancer-society-03-07-2013-2214
END:VEVENT

END:VCALENDAR
