BEGIN:VCALENDAR
VERSION:2.0
PRODID:-//ChamberMaster//Event Calendar 2.0//EN
METHOD:PUBLISH
X-PUBLISHED-TTL:P3D
REFRESH-INTERVAL:P3D
CALSCALE:GREGORIAN
BEGIN:VEVENT
DTSTART:20121010T210000Z
DTEND:20121011T010000Z
X-MICROSOFT-CDO-ALLDAYEVENT:FALSE
SUMMARY:Business After Hours: Body Medica
DESCRIPTION:Join us for Business After Hours at Body Medica
X-ALT-DESC;FMTTYPE=text/html:Join us for Business After Hours at Body Medica
LOCATION:2903 W 24th Street
UID:e.1404.2188
SEQUENCE:3
DTSTAMP:20260425T020721Z
URL:https://chambermaster.kearneycoc.org/events/details/business-after-hours-body-medica-10-10-2012-2188
END:VEVENT

END:VCALENDAR
