BEGIN:VCALENDAR
VERSION:2.0
PRODID:-//ChamberMaster//Event Calendar 2.0//EN
METHOD:PUBLISH
X-PUBLISHED-TTL:P3D
REFRESH-INTERVAL:P3D
CALSCALE:GREGORIAN
BEGIN:VEVENT
DTSTART:20120329T220000Z
DTEND:20120330T000000Z
X-MICROSOFT-CDO-ALLDAYEVENT:FALSE
SUMMARY:Business After Hours: Coldwell Banker Town & Country Realty
DESCRIPTION:Join us for Business After Hours at Kearney Coldwell Banker: Town & Country Realty
X-ALT-DESC;FMTTYPE=text/html:Join us for Business After Hours at Kearney Coldwell Banker: Town &amp\; Country Realty
LOCATION:4503 2nd Avenue\, Suite 110
UID:e.1404.1880
SEQUENCE:3
DTSTAMP:20260425T114356Z
URL:https://chambermaster.kearneycoc.org/events/details/business-after-hours-coldwell-banker-town-country-realty-03-29-2012-1880
END:VEVENT

END:VCALENDAR
