BEGIN:VCALENDAR
VERSION:2.0
PRODID:-//ChamberMaster//Event Calendar 2.0//EN
METHOD:PUBLISH
X-PUBLISHED-TTL:P3D
REFRESH-INTERVAL:P3D
CALSCALE:GREGORIAN
BEGIN:VEVENT
DTSTART:20131003T220000Z
DTEND:20131004T000000Z
X-MICROSOFT-CDO-ALLDAYEVENT:FALSE
SUMMARY:Business After Hours: Rowe Sanctuary
DESCRIPTION:Join Lillian Annette Rowe Sanctuary for Business After Hours.  Lillian Annette Rowe Bird Sanctuary\, commonly known as Rowe Sanctuary\, is dedicated to the conservation of sandhill cranes\, whooping cranes and other migratory birds\, and their habitat along the Platte River in south central Nebraska.\n\n	Owned and managed by the National Audubon Society\, the original purchase of 782 acres in 1974\, which was funded by Lillian Annette Rowe of Trenton\, NJ\, included 2.5 miles of river channel\, wet meadows\, and some agricultural fields. Additional land acquisitions have increased the current size of the sanctuary to nearly 1\,900 acres.\n\n	Along with preserving habitat for wildlife\, nature-based education is a major focus at the Iain Nicolson Audubon Center\, where year-round education opportunities exist for local schools and the general public.\n\n	Please contact us at 308-468-5282 if you have any questions.
X-ALT-DESC;FMTTYPE=text/html:<span style="font-size:14px\;">Join Lillian Annette Rowe Sanctuary for Business After Hours</span>. &nbsp\;<span style="font-family: Arial\, 'Times New Roman'\, Times\, Georgia\, 'Bitstream Vera Serif'\, serif\; font-size: 14px\; line-height: 23.78333282470703px\;">Lillian Annette Rowe Bird Sanctuary\, commonly known as Rowe Sanctuary\, is dedicated to the conservation of sandhill cranes\, whooping cranes and other migratory birds\, and their habitat along the Platte River in south central Nebraska.</span>\n<p style="margin: 1em 0px\; font-family: Arial\, 'Times New Roman'\, Times\, Georgia\, 'Bitstream Vera Serif'\, serif\; font-size: 14px\; line-height: 23.78333282470703px\;">\n	Owned and managed by the National Audubon Society\, the original purchase of 782 acres in 1974\, which was funded by Lillian Annette Rowe of Trenton\, NJ\, included 2.5 miles of river channel\, wet meadows\, and some agricultural fields. Additional land acquisitions have increased the current size of the sanctuary to nearly 1\,900 acres.</p>\n<p style="margin: 1em 0px\; font-family: Arial\, 'Times New Roman'\, Times\, Georgia\, 'Bitstream Vera Serif'\, serif\; font-size: 14px\; line-height: 23.78333282470703px\;">\n	Along with preserving habitat for wildlife\, nature-based education is a major focus at the Iain Nicolson Audubon Center\, where year-round education opportunities exist for local schools and the general public.</p>\n<p style="margin: 1em 0px\; font-family: Arial\, 'Times New Roman'\, Times\, Georgia\, 'Bitstream Vera Serif'\, serif\; font-size: 14px\; line-height: 23.78333282470703px\;">\n	Please contact us at&nbsp\;<strong>308-468-5282</strong>&nbsp\;if you have any questions.</p>\n
LOCATION:Located 2 miles south and 1.5 miles west from the Gibbon I-80 exit
UID:e.1404.2226
SEQUENCE:3
DTSTAMP:20260424T020844Z
URL:https://chambermaster.kearneycoc.org/events/details/business-after-hours-rowe-sanctuary-10-03-2013-2226
END:VEVENT

END:VCALENDAR
