BEGIN:VCALENDAR
VERSION:2.0
PRODID:-//ChamberMaster//Event Calendar 2.0//EN
METHOD:PUBLISH
X-PUBLISHED-TTL:P3D
REFRESH-INTERVAL:P3D
CALSCALE:GREGORIAN
BEGIN:VEVENT
DTSTART:20130117T230000Z
DTEND:20130118T010000Z
X-MICROSOFT-CDO-ALLDAYEVENT:FALSE
SUMMARY:Business After Hours: Schrock Chiropractic
DESCRIPTION:Join us for Business After Hours at Schrock Chiropractic's brand new location.  Food\, drinks & tours of the new facility wil be given
X-ALT-DESC;FMTTYPE=text/html:Join us for Business After Hours at Schrock Chiropractic&#39\;s brand new location.&nbsp\; Food\, drinks &amp\; tours of the new facility wil be given
LOCATION:5911 2nd Avenue West
UID:e.1404.2219
SEQUENCE:3
DTSTAMP:20260424T191552Z
URL:https://chambermaster.kearneycoc.org/events/details/business-after-hours-schrock-chiropractic-01-17-2013-2219
END:VEVENT

END:VCALENDAR
