BEGIN:VCALENDAR
VERSION:2.0
PRODID:-//ChamberMaster//Event Calendar 2.0//EN
METHOD:PUBLISH
X-PUBLISHED-TTL:P3D
REFRESH-INTERVAL:P3D
CALSCALE:GREGORIAN
BEGIN:VEVENT
DTSTART:20130404T220000Z
DTEND:20130405T000000Z
X-MICROSOFT-CDO-ALLDAYEVENT:FALSE
SUMMARY:Business After Hours: USA Communications
DESCRIPTION:Come check out USA Communications facility and learn about all the services they provide at Business After Hours
X-ALT-DESC;FMTTYPE=text/html:Come check out USA Communications facility and learn about all the services they provide at Business After Hours
LOCATION:USA Communications is located at 920 E 56th Street\, Suite B
UID:e.1404.2231
SEQUENCE:3
DTSTAMP:20260424T141625Z
URL:https://chambermaster.kearneycoc.org/events/details/business-after-hours-usa-communications-04-04-2013-2231
END:VEVENT

END:VCALENDAR
