BEGIN:VCALENDAR
VERSION:2.0
PRODID:-//ChamberMaster//Event Calendar 2.0//EN
METHOD:PUBLISH
X-PUBLISHED-TTL:P3D
REFRESH-INTERVAL:P3D
CALSCALE:GREGORIAN
BEGIN:VEVENT
DTSTART:20220804T150000Z
DTEND:20220805T043000Z
X-MICROSOFT-CDO-ALLDAYEVENT:FALSE
SUMMARY:Business & Education Committee meeting
DESCRIPTION:Chair: Mark Liljehorn\, Legacy Outdoor\n\n\n\nOur Teacher Bags will need to be assembled!  Volunteers are welcome to help sort and stuff bags\, then deliver to the schools!  \n\n\n\n\n\nThe Business & Education Committee's purpose is to advance opportunities for small business\, promote diversity\, and educate members about current trends and technologies. This group will also work to connect students with business and educational opportunities to equip and develop future leaders.
X-ALT-DESC;FMTTYPE=text/html:<span style="font-family: Tahoma\, sans-serif\; font-size: 12px\;"><strong>Chair:&nbsp\;</strong></span><span style="font-family: Tahoma\, sans-serif\;">Mark Liljehorn\, Legacy Outdoor</span><br style="font-family: Tahoma\, sans-serif\;" />\n<br />\nOur Teacher Bags will need to be assembled!&nbsp\; Volunteers are welcome to help sort and stuff bags\, then deliver to the schools!&nbsp\;&nbsp\;<br />\n<br />\n<br style="font-family: Tahoma\, sans-serif\;" />\n<span style="font-family: Tahoma\, sans-serif\;">The Business &amp\; Education Committee&#39\;s purpose is to advance opportunities for small business\, promote diversity\, and educate members about current trends and technologies. This group will also work to connect students with business and educational opportunities to equip and develop future leaders.&nbsp\;</span>
LOCATION:Kearney Area Chamber of Commerce 1007 2nd Ave. Kearney\, NE 68847
UID:e.1404.19486
SEQUENCE:3
DTSTAMP:20260421T123000Z
URL:https://chambermaster.kearneycoc.org/events/details/business-education-committee-meeting-08-04-2022-19486
END:VEVENT

END:VCALENDAR
