BEGIN:VCALENDAR
VERSION:2.0
PRODID:-//ChamberMaster//Event Calendar 2.0//EN
METHOD:PUBLISH
X-PUBLISHED-TTL:P3D
REFRESH-INTERVAL:P3D
CALSCALE:GREGORIAN
BEGIN:VEVENT
DTSTART:20221006T210000Z
DTEND:20221006T220000Z
X-MICROSOFT-CDO-ALLDAYEVENT:FALSE
SUMMARY:Business & Education Committee meeting
DESCRIPTION:Chair: Mark Liljehorn\, Legacy Outdoor\n\n\n\nIn our October meeting\, we will be presenting a Spotlight Business Award to Noah Rowe of Buffalo Bins.  Noah will share information about the unique service he provides for our community. Trevor Lee\, our new Economic Development Council President\,  will also be joining us to share information.  We will also go around the room for any committee member updates and discuss the final plans for the Career Exploration Day happening October 26th.  For those interested in hosting a booth - please remember the deadline is October 12th.  \n\n\n\nThe Business & Education Committee's purpose is to advance opportunities for small business\, promote diversity\, and educate members about current trends and technologies. This group will also work to connect students with business and educational opportunities to equip and develop future leaders.
X-ALT-DESC;FMTTYPE=text/html:<span style="font-family: Tahoma\, sans-serif\; font-size: 12px\;"><strong>Chair:&nbsp\;</strong></span><span style="font-family: Tahoma\, sans-serif\;">Mark Liljehorn\, Legacy Outdoor</span><br style="font-family: Tahoma\, sans-serif\;" />\n<br />\nIn our October meeting\, we will be presenting a <strong>Spotlight Business Award </strong>to Noah Rowe of Buffalo Bins.&nbsp\; Noah will share information about the unique service he provides for our community. Trevor Lee\, our new Economic Development Council President\, &nbsp\;will also be joining us to share information.&nbsp\; We will also go around the room for any committee member updates and discuss the final plans for the Career Exploration Day happening October 26th.&nbsp\; For those interested in hosting a booth - please remember the deadline is October 12th.&nbsp\;&nbsp\;<br />\n<br style="font-family: Tahoma\, sans-serif\;" />\n<span style="font-family: Tahoma\, sans-serif\;">The Business &amp\; Education Committee&#39\;s purpose is to advance opportunities for small business\, promote diversity\, and educate members about current trends and technologies. This group will also work to connect students with business and educational opportunities to equip and develop future leaders.&nbsp\;</span>
LOCATION:Kearney Area Chamber of Commerce 1007 2nd Ave. Kearney\, NE 68847
UID:e.1404.19488
SEQUENCE:3
DTSTAMP:20260419T122036Z
URL:https://chambermaster.kearneycoc.org/events/details/business-education-committee-meeting-10-06-2022-19488
END:VEVENT

END:VCALENDAR
