BEGIN:VCALENDAR
VERSION:2.0
PRODID:-//ChamberMaster//Event Calendar 2.0//EN
METHOD:PUBLISH
X-PUBLISHED-TTL:P3D
REFRESH-INTERVAL:P3D
CALSCALE:GREGORIAN
BEGIN:VEVENT
DTSTART:20210930T210000Z
DTEND:20210930T220000Z
X-MICROSOFT-CDO-ALLDAYEVENT:FALSE
SUMMARY:Business & Education Committee Mtg
DESCRIPTION:The Business & Education October meeting will be on the 30th of this month due to scheduling conflict\, the Chamber staff will be out of town at a conference.  \n\nDuring this meeting\, we hope to discuss the progress of the Career Exploration Day\, happening Wednesday\, October 13.
X-ALT-DESC;FMTTYPE=text/html:The Business &amp\; Education October meeting will be on the 30th of this month due to scheduling conflict\, the Chamber staff will be out of town at a conference.&nbsp\;&nbsp\;<br />\nDuring this meeting\, we hope to discuss the progress of the Career Exploration Day\, happening Wednesday\, October 13.&nbsp\;&nbsp\;
LOCATION:Kearney Area Chamber of Commerce boardroom
UID:e.1404.19403
SEQUENCE:3
DTSTAMP:20260424T020829Z
URL:https://chambermaster.kearneycoc.org/events/details/business-education-committee-mtg-19403
END:VEVENT

END:VCALENDAR
