BEGIN:VCALENDAR
VERSION:2.0
PRODID:-//ChamberMaster//Event Calendar 2.0//EN
METHOD:PUBLISH
X-PUBLISHED-TTL:P3D
REFRESH-INTERVAL:P3D
CALSCALE:GREGORIAN
BEGIN:VEVENT
DTSTART:20191203T140000Z
DTEND:20191203T150000Z
X-MICROSOFT-CDO-ALLDAYEVENT:FALSE
SUMMARY:C&C - Fellowship of Christian Athletes
DESCRIPTION:Join us for Coffee & Company with Fellowship of Christian Athletes!
X-ALT-DESC;FMTTYPE=text/html:Join us for Coffee &amp\; Company with Fellowship of Christian Athletes!
LOCATION:1400 W 22nd
UID:e.1404.18255
SEQUENCE:3
DTSTAMP:20260425T150405Z
URL:https://chambermaster.kearneycoc.org/events/details/c-c-fellowship-of-christian-athletes-18255
END:VEVENT

END:VCALENDAR
