BEGIN:VCALENDAR
VERSION:2.0
PRODID:-//ChamberMaster//Event Calendar 2.0//EN
METHOD:PUBLISH
X-PUBLISHED-TTL:P3D
REFRESH-INTERVAL:P3D
CALSCALE:GREGORIAN
BEGIN:VEVENT
DTSTART:20121103T150000Z
DTEND:20121103T210000Z
X-MICROSOFT-CDO-ALLDAYEVENT:FALSE
SUMMARY:Cabela's LIVE Deer Processing Seminar
DESCRIPTION:The weekend before rifle season opens come take in some valuable information that will ensure that you get the most out of your hunt and trophy. This all day seminar features a deer that will go from field dressed to jerky in front of your eyes. This is a great seminar for new and aspiring hunters of all ages.\n\n \n\nFirst 50 customers who attend will receive a FREE Big Game Gourmet Basics DVD
X-ALT-DESC;FMTTYPE=text/html:<span style="font-family:arial narrow\,sans-serif\;"><span style="font-size:12.0pt\;">The weekend before rifle season opens come take in some valuable information that will ensure that you get the most out of your hunt and trophy. This all day seminar features a deer that will go from field dressed to jerky in front of your eyes. This is a great seminar for new and aspiring hunters of all ages.</span></span><br />\n&nbsp\;<br />\n<em><span style="font-family:arial narrow\,sans-serif\;"><span style="font-size:12.0pt\;">First 50 customers who attend will receive a FREE Big Game Gourmet Basics DVD</span></span></em>
LOCATION:Cabela's\, 3600 E Hwy 30\, Kearney\, Ne 68847
UID:e.1404.2203
SEQUENCE:3
DTSTAMP:20260424T223144Z
URL:https://chambermaster.kearneycoc.org/events/details/cabela-s-live-deer-processing-seminar-11-03-2012-2203
END:VEVENT

END:VCALENDAR
