BEGIN:VCALENDAR
VERSION:2.0
PRODID:-//ChamberMaster//Event Calendar 2.0//EN
METHOD:PUBLISH
X-PUBLISHED-TTL:P3D
REFRESH-INTERVAL:P3D
CALSCALE:GREGORIAN
BEGIN:VEVENT
DTSTART:20160409T230000Z
DTEND:20160410T020000Z
X-MICROSOFT-CDO-ALLDAYEVENT:FALSE
SUMMARY:Calling Connecticut
DESCRIPTION:Central Nebraska's accustic symphonic Calling Connecticut\, with special guests\, is live at the Boxcar on April 9th. Cocktail hour is at 6pm and dinner is at 7pm. For tickets\, call Jacob at 308-293-3537 or email him at callingconnecticut@gmail.com.
X-ALT-DESC;FMTTYPE=text/html:Central Nebraska&#39\;s accustic&nbsp\;symphonic Calling Connecticut\, with special guests\, is live at the Boxcar on April 9th. Cocktail hour is at 6pm and dinner is at 7pm. For tickets\, call Jacob at 308-293-3537 or email him at callingconnecticut@gmail.com.
LOCATION:
UID:e.1404.8540
SEQUENCE:3
DTSTAMP:20260421T234820Z
URL:https://chambermaster.kearneycoc.org/events/details/calling-connecticut-04-09-2016-8540
END:VEVENT

END:VCALENDAR
