BEGIN:VCALENDAR
VERSION:2.0
PRODID:-//ChamberMaster//Event Calendar 2.0//EN
METHOD:PUBLISH
X-PUBLISHED-TTL:P3D
REFRESH-INTERVAL:P3D
CALSCALE:GREGORIAN
BEGIN:VEVENT
DTSTART:20130606T210000Z
DTEND:20130607T000000Z
X-MICROSOFT-CDO-ALLDAYEVENT:FALSE
SUMMARY:Can Care a Van
DESCRIPTION:Help stock local food pantries!
X-ALT-DESC;FMTTYPE=text/html:Help stock local food pantries!<br />\n
LOCATION:Grand Central Apple Market
UID:e.1404.3223
SEQUENCE:3
DTSTAMP:20260424T101952Z
URL:https://chambermaster.kearneycoc.org/events/details/can-care-a-van-06-06-2013-3223
END:VEVENT

END:VCALENDAR
